BEGIN:VCALENDAR
VERSION:2.0
PRODID:-//wp-events-plugin.com//7.2.3.1//EN
BEGIN:VEVENT
UID:1-524@globalyoungacademy.net
DTSTART;TZID=Europe/Berlin;VALUE=DATE:20260628
DTEND;TZID=Europe/Berlin;VALUE=DATE:20260704
DTSTAMP:20260116T122424Z
URL:https://globalyoungacademy.net/events/2026-international-conference-of
 -young-scientists-and-gya-annual-general-meeting/
SUMMARY:2026 International Conference of Young Scientists and GYA Annual Ge
 neral Meeting
DESCRIPTION:The 2026 GYA Annual General Meeting (AGM) and International Con
 ference of Young Scientists will take place from 30 June-3 July 2026\, wit
 h pre-Conference workshops from 28-29 June 2026\, at the Constructor Unive
 rsity\, in Bremen\, Germany.\n\nThe 2026 International Conference of Young
  Scientists will focus on the topic "Machine Intelligence for Society and 
 for all Sciences". Machine intelligence - or AI - is rapidly transforming 
 how research is done and what it can achieve\, while at the same time affe
 cting all other areas of society and individual lives.\n\nThe Conference a
 ims to bring together researchers\, practitioners\, and policymakers from 
 all disciplines and from around the world to explore how AI and machine le
 arning can drive progress across disciplines - from climate science and me
 dicine to economics and education. Sessions will also address ethical chal
 lenges and societal impacts of machine intelligence.\n\nThe 2026 AGM and I
 nternational Conference of Young Scientists will be hosted at Constructor 
 University in Bremen\, Germany.\nProgramme and Event Details\nFind current
  information and continuous updates on the 2026 AGM Website: Home - Annual
  General Meeting and International Conference\n\nContact\n\nE-mail info@gl
 obalyoungacademy.net
ATTACH;FMTTYPE=image/jpeg:https://globalyoungacademy.net/wp-content/upload
 s/2025/05/2026-GYA-AGM-Logo-scaled.jpg
CATEGORIES:Annual General Meetings,Featured
LOCATION:Constructor University\, Bremen\, Germany\, Constructor University
 \, Bremen\, Germany\, Bremen\, Germany
GEO:53.168818;8.650106
X-APPLE-STRUCTURED-LOCATION;VALUE=URI;X-ADDRESS=Constructor University\, Br
 emen\, Germany\, Bremen\, Germany;X-APPLE-RADIUS=100;X-TITLE=Constructor U
 niversity\, Bremen\, Germany:geo:53.168818,8.650106
END:VEVENT
BEGIN:VTIMEZONE
TZID:Europe/Berlin
X-LIC-LOCATION:Europe/Berlin
BEGIN:DAYLIGHT
DTSTART:20260329T030000
TZOFFSETFROM:+0100
TZOFFSETTO:+0200
TZNAME:CEST
END:DAYLIGHT
END:VTIMEZONE
END:VCALENDAR